BEGIN:VCALENDAR
VERSION:2.0
PRODID:-//Tukios.com/
BEGIN:VEVENT
UID:64015c6b-320b-4251-acd4-82cb57494399@www.mottmckameyfh.com
DTSTAMP:20260420T161535Z
DTSTART:20260425T190000Z
DTEND:20260425T200000Z
SUMMARY:Graveside Service
DESCRIPTION:
URL:https://www.mottmckameyfh.com/obituaries/robert-conner
LOCATION:Oak Ridge Memorial Park 1501 Bethel Valley Rd  Oak Ridge TN 
	37830
GEO:35.9929233;-84.2057182
END:VEVENT
END:VCALENDAR