BEGIN:VCALENDAR
VERSION:2.0
PRODID:-//Tukios.com/
BEGIN:VEVENT
UID:9e9e6684-a2d8-4793-a588-4675a6583f81@www.mottmckameyfh.com
DTSTAMP:20260420T162058Z
DTSTART:20260425T163000Z
DTEND:20260425T180000Z
SUMMARY:Visitation
DESCRIPTION:
URL:https://www.mottmckameyfh.com/obituaries/robert-conner
LOCATION:Mott-McKamey Funeral Home 1017 Oak Ridge Turnpike  Oak Ridge TN 
	37830
GEO:36.0222229;-84.2445903
END:VEVENT
END:VCALENDAR